BEGIN:VCALENDAR
VERSION:2.0
PRODID:-//GoingPublic.de - ECPv6.15.20//NONSGML v1.0//EN
CALSCALE:GREGORIAN
METHOD:PUBLISH
X-ORIGINAL-URL:https://www.goingpublic.de
X-WR-CALDESC:Veranstaltungen für GoingPublic.de
REFRESH-INTERVAL;VALUE=DURATION:PT1H
X-Robots-Tag:noindex
X-PUBLISHED-TTL:PT1H
BEGIN:VTIMEZONE
TZID:Europe/Helsinki
BEGIN:DAYLIGHT
TZOFFSETFROM:+0200
TZOFFSETTO:+0300
TZNAME:EEST
DTSTART:20220327T010000
END:DAYLIGHT
BEGIN:STANDARD
TZOFFSETFROM:+0300
TZOFFSETTO:+0200
TZNAME:EET
DTSTART:20221030T010000
END:STANDARD
BEGIN:DAYLIGHT
TZOFFSETFROM:+0200
TZOFFSETTO:+0300
TZNAME:EEST
DTSTART:20230326T010000
END:DAYLIGHT
BEGIN:STANDARD
TZOFFSETFROM:+0300
TZOFFSETTO:+0200
TZNAME:EET
DTSTART:20231029T010000
END:STANDARD
BEGIN:DAYLIGHT
TZOFFSETFROM:+0200
TZOFFSETTO:+0300
TZNAME:EEST
DTSTART:20240331T010000
END:DAYLIGHT
BEGIN:STANDARD
TZOFFSETFROM:+0300
TZOFFSETTO:+0200
TZNAME:EET
DTSTART:20241027T010000
END:STANDARD
END:VTIMEZONE
BEGIN:VEVENT
DTSTART;TZID=Europe/Helsinki:20230425T100000
DTEND;TZID=Europe/Helsinki:20230427T180000
DTSTAMP:20260425T151552
CREATED:20221202T160753Z
LAST-MODIFIED:20221202T160753Z
UID:131613-1682416800-1682618400@www.goingpublic.de
SUMMARY:DMEA - Connecting Digital Health
DESCRIPTION:Die DMEA zählt zu Europas wichigsten Events für Digital Health. Einmal im Jahr treffen sich Expert:innen aus der digitalen Gesundheitswirtschaft drei Tage lang in Berlin. Die DMEA bietet allen Akteuren neben einem umfassenden Marktüberblick vielfältige Möglichkeiten für einen intensiven Austausch\, zielgerichtetes Networking und effektive Kundengewinnung. \nWir freuen uns\, Sie zur DMEA 2023 vom 25. bis 27. April wieder in den Berliner Messehallen begrüßen durften. Erleben Sie nach dem furiosen Restart der DMEA 2022 erneut alle Facetten des digitalen Gesundheitswesens gebündelt an einem Ort. \nWeitere Informationen finden Sie hier.
URL:https://www.goingpublic.de/event/dmea-connecting-digital-health-3/
LOCATION:Messe Berlin
CATEGORIES:Life Sciences
END:VEVENT
BEGIN:VEVENT
DTSTART;TZID=Europe/Helsinki:20230427T083000
DTEND;TZID=Europe/Helsinki:20230427T110000
DTSTAMP:20260425T151552
CREATED:20210407T140449Z
LAST-MODIFIED:20221114T141110Z
UID:114771-1682584200-1682593200@www.goingpublic.de
SUMMARY:BIOTECH AUSTRIA - 2. Biotech Circle Austria
DESCRIPTION:Im Dezember 2020 wurde mit BIOTECH AUSTRIA die erste Interessensvertretung ins Leben gerufen\, die der österreichischen Biotechnologiebranche eine starke Stimme in der Öffentlichkeit geben will. \nFür die BIOTECH AUSTRIA Gründungsveranstaltung am 16. April 2021 konnte mit BioNTech Mitgründer Prof. Dr. med. Christoph Huber eine weit über die Landesgrenzen bekannte und erfolgreiche Persönlichkeit gewonnen werden. Prof. Huber wird mit BIOTECH AUSTRIA an diesem Vormittag u. a. über die großen Chancen der Biotechbranche in der heutigen Zeit\, die Bedeutung von Unternehmertum für die erfolgreiche Umsetzung von Ideen am Beispiel BioNTech SE und den Mut zu mehr Menschlichkeit sprechen. Sein langjähriger Erfahrungsschatz wird sicherlich einiges an Know-how übermitteln. \nÜber den virtuellen Livestream können Sie aktiv an der Diskussion teilnehmen und Ihre Fragen an Prof. Huber stellen! \nWann: Freitag\, 16. April 2021 um 10 Uhr\nWo: Videoübertragung und Livestream unter www.biotechaustria.org \nEs ist keine Registrierung notwendig\, gerne können Sie weitere interessierte TeilnehmerInnen zu diesem Event einladen.
URL:https://www.goingpublic.de/event/biotech-austria-gruendungsveranstaltung-live-stream/
LOCATION:Digital
CATEGORIES:Life Sciences
ATTACH;FMTTYPE=image/jpeg:https://www.goingpublic.de/wp-content/uploads/2021/04/BiotechAustria-Logo-300DPI-CMYK.jpg
END:VEVENT
END:VCALENDAR