BEGIN:VCALENDAR
VERSION:2.0
PRODID:-//GoingPublic.de - ECPv6.15.20//NONSGML v1.0//EN
CALSCALE:GREGORIAN
METHOD:PUBLISH
X-ORIGINAL-URL:https://www.goingpublic.de
X-WR-CALDESC:Veranstaltungen für GoingPublic.de
REFRESH-INTERVAL;VALUE=DURATION:PT1H
X-Robots-Tag:noindex
X-PUBLISHED-TTL:PT1H
BEGIN:VTIMEZONE
TZID:Europe/Berlin
BEGIN:DAYLIGHT
TZOFFSETFROM:+0100
TZOFFSETTO:+0200
TZNAME:CEST
DTSTART:20220327T010000
END:DAYLIGHT
BEGIN:STANDARD
TZOFFSETFROM:+0200
TZOFFSETTO:+0100
TZNAME:CET
DTSTART:20221030T010000
END:STANDARD
BEGIN:DAYLIGHT
TZOFFSETFROM:+0100
TZOFFSETTO:+0200
TZNAME:CEST
DTSTART:20230326T010000
END:DAYLIGHT
BEGIN:STANDARD
TZOFFSETFROM:+0200
TZOFFSETTO:+0100
TZNAME:CET
DTSTART:20231029T010000
END:STANDARD
BEGIN:DAYLIGHT
TZOFFSETFROM:+0100
TZOFFSETTO:+0200
TZNAME:CEST
DTSTART:20240331T010000
END:DAYLIGHT
BEGIN:STANDARD
TZOFFSETFROM:+0200
TZOFFSETTO:+0100
TZNAME:CET
DTSTART:20241027T010000
END:STANDARD
END:VTIMEZONE
BEGIN:VEVENT
DTSTART;TZID=Europe/Berlin:20230424T080000
DTEND;TZID=Europe/Berlin:20230425T170000
DTSTAMP:20260425T151558
CREATED:20221213T142133Z
LAST-MODIFIED:20221213T142133Z
UID:132259-1682323200-1682442000@www.goingpublic.de
SUMMARY:Swiss Biotech Day 2023
DESCRIPTION:The Swiss biotech industry is not slowed down by the Covid pandemic – this was also shown at the live Swiss Biotech Day 2022. Together with our business associates and investors this networking conference has become a great place for innovation\, research and the advancement of biotechnology. As one of the leading biotechnology conferences in Europe\, the Swiss Biotech Day 2023 is further developing to a truly global networking day and remains at 1.5 days. \nWhat to expect: \n\nMeet 1.000+ senior experts from the life science industry\n70+ exhibitors and global village with international delegations\nSwiss Biotech Success Stories Awards\nInnovative biotech start-ups and medium-sized biotech companies\nThematically focused panel discussions\nSwiss Biotech Report 2023\nPre-scheduled one-to-one partnering meetings\nGeneral Assembly of the Swiss Biotech Association\n\nFind more information here.
URL:https://www.goingpublic.de/event/swiss-biotech-day-2023/
LOCATION:Congress Center Basel\, Basel\, Schweiz
CATEGORIES:Life Sciences
END:VEVENT
BEGIN:VEVENT
DTSTART;TZID=Europe/Berlin:20230424T080000
DTEND;TZID=Europe/Berlin:20230425T170000
DTSTAMP:20260425T151558
CREATED:20221214T145259Z
LAST-MODIFIED:20221214T145259Z
UID:132382-1682323200-1682442000@www.goingpublic.de
SUMMARY:BIOVARIA
DESCRIPTION:BioVaria is Europe’s leading event for innovation in the life sciences and will take place at the Sofitel Munich from April 24 – 25\, 2023. It is jointly organised by Ascenion and a selected group of European technology transfer organisations. BioVaria brings together potential licensees and investors from the biotech and pharmaceutical industry with scientists\, founders\, and technology transfer experts from all over Europe. First-class research institutes\, universities and university hospitals will present more than 60 selected licensable life-science technologies. For the first time\, young scientists will present projects from Ascenion’s Life Science Digital Hub that is supported by GO-Bio initial. \nBioVaria’s Startup Pitch & Partner program has been a special highlight for years. Selected start-ups will have the chance to pitch their projects to potential international and regional investors and industry partners and to compete to win a cash award. \nDon’t miss BioVaria 2023 and register now! More information on www.biovaria.org
URL:https://www.goingpublic.de/event/biovaria/
LOCATION:München SOFITEL Munich Bayerpost\, München\, Deutschland
CATEGORIES:Life Sciences,Medienpartner
ATTACH;FMTTYPE=image/jpeg:https://www.goingpublic.de/wp-content/uploads/2022/12/Bioivaria-RZ_Logo-BV_2019-1.jpg
END:VEVENT
END:VCALENDAR