BEGIN:VCALENDAR
VERSION:2.0
PRODID:-//GoingPublic.de - ECPv6.15.20//NONSGML v1.0//EN
CALSCALE:GREGORIAN
METHOD:PUBLISH
X-ORIGINAL-URL:https://www.goingpublic.de
X-WR-CALDESC:Veranstaltungen für GoingPublic.de
REFRESH-INTERVAL;VALUE=DURATION:PT1H
X-Robots-Tag:noindex
X-PUBLISHED-TTL:PT1H
BEGIN:VTIMEZONE
TZID:Europe/Helsinki
BEGIN:DAYLIGHT
TZOFFSETFROM:+0200
TZOFFSETTO:+0300
TZNAME:EEST
DTSTART:20220327T010000
END:DAYLIGHT
BEGIN:STANDARD
TZOFFSETFROM:+0300
TZOFFSETTO:+0200
TZNAME:EET
DTSTART:20221030T010000
END:STANDARD
BEGIN:DAYLIGHT
TZOFFSETFROM:+0200
TZOFFSETTO:+0300
TZNAME:EEST
DTSTART:20230326T010000
END:DAYLIGHT
BEGIN:STANDARD
TZOFFSETFROM:+0300
TZOFFSETTO:+0200
TZNAME:EET
DTSTART:20231029T010000
END:STANDARD
BEGIN:DAYLIGHT
TZOFFSETFROM:+0200
TZOFFSETTO:+0300
TZNAME:EEST
DTSTART:20240331T010000
END:DAYLIGHT
BEGIN:STANDARD
TZOFFSETFROM:+0300
TZOFFSETTO:+0200
TZNAME:EET
DTSTART:20241027T010000
END:STANDARD
END:VTIMEZONE
BEGIN:VEVENT
DTSTART;TZID=Europe/Helsinki:20230316T080000
DTEND;TZID=Europe/Helsinki:20230317T170000
DTSTAMP:20260425T164836
CREATED:20221202T114343Z
LAST-MODIFIED:20221208T150515Z
UID:131332-1678953600-1679072400@www.goingpublic.de
SUMMARY:7th AMR Conference 2023
DESCRIPTION:The #AMRconference is a platform for SMEs\, start-ups\, big pharma\, academia\, investors and public institutions to discuss strategies and the specific challenges faced by SMEs in bringing new antimicrobial treatments and diagnostics to the market. \nThe “AMR Conference” was started in 2017 as part of the annual “Berlin Conference on Life Sciences” series which was established by BIOCOM AG twelve years ago as an event format to discuss the challenges of SME-driven innovation for the health market and to offer a platform for meeting experts from business\, science\, clinics\, finance\, regulatory affairs and intellectual property.
URL:https://www.goingpublic.de/event/7th-amr-conference-2023/
LOCATION:Congress Center Basel\, Messeplatz 21\, Basel\, 4058\, Switzerland
CATEGORIES:Life Sciences
ATTACH;FMTTYPE=image/png:https://www.goingpublic.de/wp-content/uploads/2022/12/AMR23_Banner_300x250.png
ORGANIZER;CN="BIOCOM":MAILTO:service@biocom.de
END:VEVENT
END:VCALENDAR