BEGIN:VCALENDAR
VERSION:2.0
PRODID:-//GoingPublic.de - ECPv6.15.20//NONSGML v1.0//EN
CALSCALE:GREGORIAN
METHOD:PUBLISH
X-WR-CALNAME:GoingPublic.de
X-ORIGINAL-URL:https://www.goingpublic.de
X-WR-CALDESC:Veranstaltungen für GoingPublic.de
REFRESH-INTERVAL;VALUE=DURATION:PT1H
X-Robots-Tag:noindex
X-PUBLISHED-TTL:PT1H
BEGIN:VTIMEZONE
TZID:Europe/Helsinki
BEGIN:DAYLIGHT
TZOFFSETFROM:+0200
TZOFFSETTO:+0300
TZNAME:EEST
DTSTART:20220327T010000
END:DAYLIGHT
BEGIN:STANDARD
TZOFFSETFROM:+0300
TZOFFSETTO:+0200
TZNAME:EET
DTSTART:20221030T010000
END:STANDARD
BEGIN:DAYLIGHT
TZOFFSETFROM:+0200
TZOFFSETTO:+0300
TZNAME:EEST
DTSTART:20230326T010000
END:DAYLIGHT
BEGIN:STANDARD
TZOFFSETFROM:+0300
TZOFFSETTO:+0200
TZNAME:EET
DTSTART:20231029T010000
END:STANDARD
BEGIN:DAYLIGHT
TZOFFSETFROM:+0200
TZOFFSETTO:+0300
TZNAME:EEST
DTSTART:20240331T010000
END:DAYLIGHT
BEGIN:STANDARD
TZOFFSETFROM:+0300
TZOFFSETTO:+0200
TZNAME:EET
DTSTART:20241027T010000
END:STANDARD
END:VTIMEZONE
BEGIN:VEVENT
DTSTART;TZID=Europe/Helsinki:20230308T080000
DTEND;TZID=Europe/Helsinki:20230309T170000
DTSTAMP:20260425T165352
CREATED:20221123T125708Z
LAST-MODIFIED:20221125T152549Z
UID:131125-1678262400-1678381200@www.goingpublic.de
SUMMARY:Cellulose Fibres Conference 2023
DESCRIPTION:The only conference focused on cellulose fibres – in textiles\, hygiene and packaging \n\n\nThe Cellulose Fibres Conference 2023 will cover the entire value chain\, fromlignocellulose\, chemical pulp\, cellulose fibres such as rayon\, viscose\, modal or lyocelland new developments to a wide range of applications: Textiles of all kinds\,nonwovens such as wet wipes as well as new areas such as composites\, packagingor nanocellulose in the food industry.By bringing together all relevant topics and experts\, the event provides networkingopportunities and a framework for new partnerships\, ideas\, approaches\, and valuechains. The conference will be accompanied by a trade exhibition. \nFind more information here.
URL:https://www.goingpublic.de/event/cellulose-fibres-conference-2023/
LOCATION:Maternushaus\, Kardinal-Frings-Str. 1-3\, Köln\, 50668\, Germany
CATEGORIES:Life Sciences
ATTACH;FMTTYPE=image/png:https://www.goingpublic.de/wp-content/uploads/2022/11/22-06-13_CFC-2023_440x220.png
ORGANIZER;CN="nova-Institut GmbH":MAILTO:dominik.vogt@nova-institut.de
END:VEVENT
END:VCALENDAR