BEGIN:VCALENDAR
VERSION:2.0
PRODID:-//GoingPublic.de - ECPv6.15.20//NONSGML v1.0//EN
CALSCALE:GREGORIAN
METHOD:PUBLISH
X-WR-CALNAME:GoingPublic.de
X-ORIGINAL-URL:https://www.goingpublic.de
X-WR-CALDESC:Veranstaltungen für GoingPublic.de
REFRESH-INTERVAL;VALUE=DURATION:PT1H
X-Robots-Tag:noindex
X-PUBLISHED-TTL:PT1H
BEGIN:VTIMEZONE
TZID:Europe/Helsinki
BEGIN:DAYLIGHT
TZOFFSETFROM:+0200
TZOFFSETTO:+0300
TZNAME:EEST
DTSTART:20220327T010000
END:DAYLIGHT
BEGIN:STANDARD
TZOFFSETFROM:+0300
TZOFFSETTO:+0200
TZNAME:EET
DTSTART:20221030T010000
END:STANDARD
BEGIN:DAYLIGHT
TZOFFSETFROM:+0200
TZOFFSETTO:+0300
TZNAME:EEST
DTSTART:20230326T010000
END:DAYLIGHT
BEGIN:STANDARD
TZOFFSETFROM:+0300
TZOFFSETTO:+0200
TZNAME:EET
DTSTART:20231029T010000
END:STANDARD
BEGIN:DAYLIGHT
TZOFFSETFROM:+0200
TZOFFSETTO:+0300
TZNAME:EEST
DTSTART:20240331T010000
END:DAYLIGHT
BEGIN:STANDARD
TZOFFSETFROM:+0300
TZOFFSETTO:+0200
TZNAME:EET
DTSTART:20241027T010000
END:STANDARD
END:VTIMEZONE
BEGIN:VEVENT
DTSTART;TZID=Europe/Helsinki:20230228T080000
DTEND;TZID=Europe/Helsinki:20230228T170000
DTSTAMP:20260425T165315
CREATED:20221202T154420Z
LAST-MODIFIED:20221208T143921Z
UID:131607-1677571200-1677603600@www.goingpublic.de
SUMMARY:4th Annual European HealthTech CEO Forum (EHTF)
DESCRIPTION:For the first time since the pandemic started\, we are pleased to announce that the 4th Annual European HealthTech CEO Forum (EHTF) will take place In-Person on the 28th February 2023 back at the Hilton Zurich Airport Hotel. The event will be part of the Sachs Spring Life Sciences Week\, which will also incorporate the 16th Annual European Life Sciences CEO Forum. \nThe 4th EHTF is a unique annual gathering of industry leaders from Europe\, Asia and the USA. The main programme will feature more than 5 hours of high-level speeches and panel discussions focusing on investment & partnership in MedTech and Digital Health. In addition\, there will be a global company showcase of 25+ presentations by established public\, private\, emerging and seed companies\, offering innovative solutions and are seeking investment and partnering opportunities. This will include a limited number of live presentations taking place in dedicated presenting tracks\, alongside virtual company showcases\, which will be available on demand during the virtual week. We expect around 250+ delegates from 20 countries to join us in Zurich for the networking and business opportunities. These include Digital Health\, MedTech/Device companies\, banks\, investors and advisors with part of the audience participating virtually. \nFind more information here.
URL:https://www.goingpublic.de/event/4th-annual-european-healthtech-ceo-forum-ehtf/
LOCATION:Hilton Zurich Airport Hotel\, Hohenbuehlstrasse 10\, Opfikon-Glattbrugg Zurich\, 8152\, Schweiz
CATEGORIES:Life Sciences,Medienpartner
ATTACH;FMTTYPE=image/png:https://www.goingpublic.de/wp-content/uploads/2019/01/SachsAssociatesBlue-01-e1549298374510.png
END:VEVENT
END:VCALENDAR