BEGIN:VCALENDAR
VERSION:2.0
PRODID:-//GoingPublic.de - ECPv6.15.20//NONSGML v1.0//EN
CALSCALE:GREGORIAN
METHOD:PUBLISH
X-WR-CALNAME:GoingPublic.de
X-ORIGINAL-URL:https://www.goingpublic.de
X-WR-CALDESC:Veranstaltungen für GoingPublic.de
REFRESH-INTERVAL;VALUE=DURATION:PT1H
X-Robots-Tag:noindex
X-PUBLISHED-TTL:PT1H
BEGIN:VTIMEZONE
TZID:Europe/Helsinki
BEGIN:DAYLIGHT
TZOFFSETFROM:+0200
TZOFFSETTO:+0300
TZNAME:EEST
DTSTART:20220327T010000
END:DAYLIGHT
BEGIN:STANDARD
TZOFFSETFROM:+0300
TZOFFSETTO:+0200
TZNAME:EET
DTSTART:20221030T010000
END:STANDARD
BEGIN:DAYLIGHT
TZOFFSETFROM:+0200
TZOFFSETTO:+0300
TZNAME:EEST
DTSTART:20230326T010000
END:DAYLIGHT
BEGIN:STANDARD
TZOFFSETFROM:+0300
TZOFFSETTO:+0200
TZNAME:EET
DTSTART:20231029T010000
END:STANDARD
BEGIN:DAYLIGHT
TZOFFSETFROM:+0200
TZOFFSETTO:+0300
TZNAME:EEST
DTSTART:20240331T010000
END:DAYLIGHT
BEGIN:STANDARD
TZOFFSETFROM:+0300
TZOFFSETTO:+0200
TZNAME:EET
DTSTART:20241027T010000
END:STANDARD
END:VTIMEZONE
BEGIN:VEVENT
DTSTART;TZID=Europe/Helsinki:20230214T080000
DTEND;TZID=Europe/Helsinki:20230215T170000
DTSTAMP:20260425T182244
CREATED:20221202T130042Z
LAST-MODIFIED:20221202T130042Z
UID:131600-1676361600-1676480400@www.goingpublic.de
SUMMARY:CLIB International Conference CIC2023
DESCRIPTION:Vom 14. bis 15. Februar 2023 findet im Lindner Congress Hotel in Düsseldorf die CLIB International Conference (CIC) statt. \nUnter dem Titel „Setting sail for industrial implementation“ werden wir diskutieren\, wie die Biotechnologie in größerem Maßstab den Unterschied machen kann. Als Gesellschaft stehen wir in den kommenden Jahren vor großen Herausforderungen\, um unsere Klima- und Nachhaltigkeitsziele zu erreichen. \nWeitere Informationen finden Sie hier.
URL:https://www.goingpublic.de/event/clib-international-conference-cic2023/
LOCATION:Lindner Congress Hotel\, Lütticher Straße 130\, Düsseldorf\, NRW\,  40547\, Deutschland
CATEGORIES:Life Sciences
END:VEVENT
BEGIN:VEVENT
DTSTART;VALUE=DATE:20230214
DTEND;VALUE=DATE:20230216
DTSTAMP:20260425T182244
CREATED:20221019T120340Z
LAST-MODIFIED:20221215T103544Z
UID:129196-1676365200-1676451599@www.goingpublic.de
SUMMARY:Plan B - Biobasiert.Business.Bayern
DESCRIPTION:Am 14.02.2023 schon was vor!? Wie wäre es mit einem Valentins-Date mit den Top-Bioökonomie-Start-ups 2022/2023? Der Start-up Wettbewerb „PlanB – Biobasiert.Business.Bayern.“ prämiert zum fünften Mal die besten Geschäftsideen und Start-ups aus der biobasierten Wirtschaft! Die Verleihung aus der Sennebogen-Akademie in Straubing wird als interaktiver Livestream ausgestrahlt\, der es den virtuellen Zuschauer*innen ermöglicht\, aktiv über die Vergabe des Publikumspreises abzustimmen und Fragen an die Start-ups zu stellen. Es warten die Pitches der besten PlanB-Teams 2022/2023 mit Live-Jury-Entscheidung\, Preisverleihung\, spannende Key Notes und vieles mehr. Die Verleihung wird von 17.30 bis 19.30 Uhr übertragen. Weitere Infos und das Anmelde-Formular für den Live-Stream gibt es bald auf www.planb-wettbewerb.de
URL:https://www.goingpublic.de/event/plan-b-biobasiert-business-bayern/
LOCATION:Hybrid
CATEGORIES:Life Sciences,Medienpartner
ATTACH;FMTTYPE=image/jpeg:https://www.goingpublic.de/wp-content/uploads/2022/10/planb_logo.jpg
ORGANIZER;CN="BioCampus Straubing":MAILTO:planb@biocampus-straubing.de
END:VEVENT
END:VCALENDAR