BEGIN:VCALENDAR
VERSION:2.0
PRODID:-//GoingPublic.de - ECPv6.15.20//NONSGML v1.0//EN
CALSCALE:GREGORIAN
METHOD:PUBLISH
X-WR-CALNAME:GoingPublic.de
X-ORIGINAL-URL:https://www.goingpublic.de
X-WR-CALDESC:Veranstaltungen für GoingPublic.de
REFRESH-INTERVAL;VALUE=DURATION:PT1H
X-Robots-Tag:noindex
X-PUBLISHED-TTL:PT1H
BEGIN:VTIMEZONE
TZID:Europe/Berlin
BEGIN:DAYLIGHT
TZOFFSETFROM:+0100
TZOFFSETTO:+0200
TZNAME:CEST
DTSTART:20220327T010000
END:DAYLIGHT
BEGIN:STANDARD
TZOFFSETFROM:+0200
TZOFFSETTO:+0100
TZNAME:CET
DTSTART:20221030T010000
END:STANDARD
BEGIN:DAYLIGHT
TZOFFSETFROM:+0100
TZOFFSETTO:+0200
TZNAME:CEST
DTSTART:20230326T010000
END:DAYLIGHT
BEGIN:STANDARD
TZOFFSETFROM:+0200
TZOFFSETTO:+0100
TZNAME:CET
DTSTART:20231029T010000
END:STANDARD
BEGIN:DAYLIGHT
TZOFFSETFROM:+0100
TZOFFSETTO:+0200
TZNAME:CEST
DTSTART:20240331T010000
END:DAYLIGHT
BEGIN:STANDARD
TZOFFSETFROM:+0200
TZOFFSETTO:+0100
TZNAME:CET
DTSTART:20241027T010000
END:STANDARD
END:VTIMEZONE
BEGIN:VTIMEZONE
TZID:Europe/Helsinki
BEGIN:DAYLIGHT
TZOFFSETFROM:+0200
TZOFFSETTO:+0300
TZNAME:EEST
DTSTART:20220327T010000
END:DAYLIGHT
BEGIN:STANDARD
TZOFFSETFROM:+0300
TZOFFSETTO:+0200
TZNAME:EET
DTSTART:20221030T010000
END:STANDARD
BEGIN:DAYLIGHT
TZOFFSETFROM:+0200
TZOFFSETTO:+0300
TZNAME:EEST
DTSTART:20230326T010000
END:DAYLIGHT
BEGIN:STANDARD
TZOFFSETFROM:+0300
TZOFFSETTO:+0200
TZNAME:EET
DTSTART:20231029T010000
END:STANDARD
BEGIN:DAYLIGHT
TZOFFSETFROM:+0200
TZOFFSETTO:+0300
TZNAME:EEST
DTSTART:20240331T010000
END:DAYLIGHT
BEGIN:STANDARD
TZOFFSETFROM:+0300
TZOFFSETTO:+0200
TZNAME:EET
DTSTART:20241027T010000
END:STANDARD
END:VTIMEZONE
BEGIN:VEVENT
DTSTART;VALUE=DATE:20230208
DTEND;VALUE=DATE:20230211
DTSTAMP:20260425T182313
CREATED:20230111T094728Z
LAST-MODIFIED:20230111T095136Z
UID:132934-1675846800-1676019599@www.goingpublic.de
SUMMARY:9. Hamburger Investorentage (HIT)
DESCRIPTION:Die Hamburger Investorentage (HIT) sind eines der bedeutendsten Kapitalmarktevents für mittelständische Unternehmen aus der DACH-Region und die führende Nebenwerte-Konferenz des Nordens. Der HIT findet zweimal im Jahr statt und wird von Investoren und Emittenten insbesondere für ein hochkarätiges Teilnehmerfeld sowie die hohe Reichweite sehr geschätzt. Erfolgsgaranten des HITs sind das Hamburger Researchhaus Montega sowie die traditionsreiche Privatbank DONNER & REUSCHEL\, die die Konferenz partnerschaftlich ausrichten und ihre Expertise im Kapitalmarktbereich zum Wohle aller Teilnehmer bündeln. \nDie Veranstaltung wird durch die teilnehmenden Emittenten finanziert\, sodass die MiFID II-konforme Ansprache eines breiten Kreises von Investoren möglich ist. Typische Teilnehmer sind Family Offices und Vermögensverwalter sowie Fondsmanager mit einem Fokus auf Nebenwerte aus Deutschland\, Österreich und der Schweiz. Auf Seite der Emittenten achten wir auf eine hohe Qualität der Equity Story. Zudem streben wir ein ausgewogenes Teilnehmerfeld mit Unternehmen verschiedener Größe und aus unterschiedlichen Sektoren an. Die Hamburger Investorentage sind für institutionelle Investoren kostenlos.
URL:https://www.goingpublic.de/event/hamburger-investorentage-hit/
LOCATION:Hotel Scandic Hamburg\, Dammtorwall 19\, Hamburg\, 20355\, Germany
CATEGORIES:Medienpartner
ATTACH;FMTTYPE=image/png:https://www.goingpublic.de/wp-content/uploads/2023/01/Logo-Hit.png
END:VEVENT
BEGIN:VEVENT
DTSTART;TZID=Europe/Helsinki:20230209T100000
DTEND;TZID=Europe/Helsinki:20230209T140000
DTSTAMP:20260425T182313
CREATED:20221128T093534Z
LAST-MODIFIED:20260402T101030Z
UID:131370-1675936800-1675951200@www.goingpublic.de
SUMMARY:Forum Hauptversammlung 2023
DESCRIPTION:Im Fokus stehen aktuelle aktienrechtliche und kapitalmarktrechtliche Themen rund um die Hauptversammlung börsenorientierter Unternehmen. Auch 2023 wieder mit Vorträgen von Computershare. \nThemenschwerpunkte des Webinars: \n\nAusgewählte Fallstricke der virtuellen Hauptversammlung\nPraxiserfahrungen mit Aktionärsmitteilungen und -information (in Tabellenform)\nESG\nFüPoG II\, FISG\, Update zum Transparenzregister\nGesellschaftsrechtliche Reformvorhaben nach dem Koalitionsvertrag\nUpdate zu den Voting Policy Guidelines der Stimmrechtsberater\nUpdate zum Vergütungsbericht
URL:https://www.goingpublic.de/event/forum-hauptversammlung-2023/
LOCATION:Virtuell
CATEGORIES:HV
ATTACH;FMTTYPE=image/png:https://www.goingpublic.de/wp-content/uploads/2022/11/Logo-Taylor-Wessing.png
END:VEVENT
BEGIN:VEVENT
DTSTART;TZID=Europe/Helsinki:20230209T110000
DTEND;TZID=Europe/Helsinki:20230209T130000
DTSTAMP:20260425T182313
CREATED:20221125T153552Z
LAST-MODIFIED:20221208T140813Z
UID:131324-1675940400-1675947600@www.goingpublic.de
SUMMARY:SAP NOW Germany
DESCRIPTION:Die SAP NOW Germany – als virtuelles Jahresauftakt-Event der SAP Deutschland –  liefert Ihnen am 9. Februar von 11:00-13:00 Uhr in nur zwei Stunden alles\, was es 2023 zum Freisetzen neuer Potenziale braucht: Wissen\, Mut und starke Partnerschaften.\nIm Dialog mit Entscheiderinnen und Entscheidern aus unterschiedlichsten Branchen blicken wir über den Tellerrand\, um voneinander zu lernen und gemeinsam noch weiter zu kommen. Sind Sie dabei? \nWeitere Informationen finden Sie hier. \nKontakt: jutta.maxeiner@sap.com
URL:https://www.goingpublic.de/event/sap-now-germany/
LOCATION:online
CATEGORIES:Life Sciences
ATTACH;FMTTYPE=image/jpeg:https://www.goingpublic.de/wp-content/uploads/2022/11/SAP_R_grad_scrn.jpg
ORGANIZER;CN="SAP":MAILTO:info.germany@sap.com
END:VEVENT
END:VCALENDAR